BEGIN:VCALENDAR
VERSION:2.0
PRODID:-//Dreiersiedlung - ECPv6.15.20//NONSGML v1.0//EN
CALSCALE:GREGORIAN
METHOD:PUBLISH
X-WR-CALNAME:Dreiersiedlung
X-ORIGINAL-URL:https://www.dreiersiedlung.at
X-WR-CALDESC:Veranstaltungen für Dreiersiedlung
REFRESH-INTERVAL;VALUE=DURATION:PT1H
X-Robots-Tag:noindex
X-PUBLISHED-TTL:PT1H
BEGIN:VTIMEZONE
TZID:UTC
BEGIN:STANDARD
TZOFFSETFROM:+0000
TZOFFSETTO:+0000
TZNAME:UTC
DTSTART:20240101T000000
END:STANDARD
END:VTIMEZONE
BEGIN:VEVENT
DTSTART;TZID=UTC:20260414T150000
DTEND;TZID=UTC:20260414T170000
DTSTAMP:20260424T093951
CREATED:20260407T164745Z
LAST-MODIFIED:20260407T164745Z
UID:4128-1776178800-1776186000@www.dreiersiedlung.at
SUMMARY:Einladung Coffee to Go!
DESCRIPTION:Wir sind wieder vor Ort und freuen uns auf euch! Holt euch einen Kaffee und Informationen zu den beginnenden Bauarbeiten. Wir stehen euch für Fragen und Anregungen zur Verfügung. Kommt vorbei! \nWir sind hier unterwegs: Das Eckerl an der Dr.-Karl-Renner-Straße. Bei Schlechtwetter sind wir im Volkshaus!
URL:https://www.dreiersiedlung.at/veranstaltung/einladung-coffee-to-go/
LOCATION:Das Eckerl\, Dr.-Karl-Renner-Straße\, Ternitz
END:VEVENT
BEGIN:VEVENT
DTSTART;TZID=UTC:20260326T150000
DTEND;TZID=UTC:20260326T170000
DTSTAMP:20260424T093951
CREATED:20260309T112215Z
LAST-MODIFIED:20260309T112303Z
UID:4092-1774537200-1774544400@www.dreiersiedlung.at
SUMMARY:Nachbarschaftscafé
DESCRIPTION:Wir möchten die Gelegenheit nutzen\, um gemeinsam über aktuelle Neuigkeiten in der Siedlung\, das weitere Vorgehen sowie konkrete nächste Schritte ins Gespräch zu kommen. Bei Kaffee und Kuchen wollen wir uns in entspannter Atmosphäre austauschen und informieren. Wir freuen uns auf euer Kommen und auf ein konstruktives Gespräch mit euch!
URL:https://www.dreiersiedlung.at/veranstaltung/einladung-nachbarschaftscafe/
LOCATION:Volkshaus\, Nobelgasse 3
END:VEVENT
BEGIN:VEVENT
DTSTART;TZID=UTC:20260305T160000
DTEND;TZID=UTC:20260305T180000
DTSTAMP:20260424T093951
CREATED:20260212T085758Z
LAST-MODIFIED:20260212T085758Z
UID:4042-1772726400-1772733600@www.dreiersiedlung.at
SUMMARY:einfach gemeinsam
DESCRIPTION:
URL:https://www.dreiersiedlung.at/veranstaltung/einfach-gemeinsam-2/
LOCATION:Volkshaus\, Nobelgasse 3
END:VEVENT
BEGIN:VEVENT
DTSTART;TZID=UTC:20260219T160000
DTEND;TZID=UTC:20260219T180000
DTSTAMP:20260424T093951
CREATED:20260212T085702Z
LAST-MODIFIED:20260212T085702Z
UID:4039-1771516800-1771524000@www.dreiersiedlung.at
SUMMARY:einfach gemeinsam
DESCRIPTION:
URL:https://www.dreiersiedlung.at/veranstaltung/einfach-gemeinsam/
LOCATION:Volkshaus\, Nobelgasse 3
END:VEVENT
BEGIN:VEVENT
DTSTART;TZID=UTC:20251210T160000
DTEND;TZID=UTC:20251210T180000
DTSTAMP:20260424T093951
CREATED:20251008T134214Z
LAST-MODIFIED:20251125T121129Z
UID:3753-1765382400-1765389600@www.dreiersiedlung.at
SUMMARY:Punsch & Kekse im Volkshaus
DESCRIPTION:
URL:https://www.dreiersiedlung.at/veranstaltung/kuerbisschnitzen/
LOCATION:Volkshaus Pottschach\, Nobelgasse 3\, Ternitz\, 2630
END:VEVENT
BEGIN:VEVENT
DTSTART;TZID=UTC:20251204T160000
DTEND;TZID=UTC:20251204T180000
DTSTAMP:20260424T093951
CREATED:20251204T122901Z
LAST-MODIFIED:20251204T122901Z
UID:3961-1764864000-1764871200@www.dreiersiedlung.at
SUMMARY:Nikolofeier - einfach gemeinsam!
DESCRIPTION:
URL:https://www.dreiersiedlung.at/veranstaltung/nikolofeier-einfach-gemeinsam/
LOCATION:Volkshaus Pottschach\, Nobelgasse 3\, Ternitz\, 2630
END:VEVENT
BEGIN:VEVENT
DTSTART;TZID=UTC:20250911T160000
DTEND;TZID=UTC:20250911T180000
DTSTAMP:20260424T093951
CREATED:20250725T084530Z
LAST-MODIFIED:20250802T090857Z
UID:3523-1757606400-1757613600@www.dreiersiedlung.at
SUMMARY:einfach gemeinsam
DESCRIPTION:
URL:https://www.dreiersiedlung.at/veranstaltung/einfach-gemeinsam-11-9-25/
LOCATION:Volkshaus Pottschach\, Nobelgasse 3\, Ternitz\, 2630
END:VEVENT
BEGIN:VEVENT
DTSTART;TZID=UTC:20250828T160000
DTEND;TZID=UTC:20250828T180000
DTSTAMP:20260424T093951
CREATED:20250725T084453Z
LAST-MODIFIED:20250802T090805Z
UID:3524-1756396800-1756404000@www.dreiersiedlung.at
SUMMARY:einfach gemeinsam
DESCRIPTION:
URL:https://www.dreiersiedlung.at/veranstaltung/einfach-gemeinsam-28-8-25/
LOCATION:Volkshaus Pottschach\, Nobelgasse 3\, Ternitz\, 2630
END:VEVENT
BEGIN:VEVENT
DTSTART;TZID=UTC:20250814T160000
DTEND;TZID=UTC:20250814T180000
DTSTAMP:20260424T093951
CREATED:20250725T084240Z
LAST-MODIFIED:20250802T090538Z
UID:3521-1755187200-1755194400@www.dreiersiedlung.at
SUMMARY:einfach gemeinsam
DESCRIPTION:
URL:https://www.dreiersiedlung.at/veranstaltung/einfach-gemeinsam-14-8-25/
LOCATION:Volkshaus Pottschach\, Nobelgasse 3\, Ternitz\, 2630
END:VEVENT
BEGIN:VEVENT
DTSTART;TZID=UTC:20250724T150000
DTEND;TZID=UTC:20250724T170000
DTSTAMP:20260424T093951
CREATED:20250725T083940Z
LAST-MODIFIED:20250725T083940Z
UID:3517-1753369200-1753376400@www.dreiersiedlung.at
SUMMARY:Spielenachmittag
DESCRIPTION:
URL:https://www.dreiersiedlung.at/veranstaltung/spielenachmittag/
END:VEVENT
END:VCALENDAR